BEGIN:VCALENDAR
VERSION:2.0
PRODID:-//SPRYE - ECPv6.15.20//NONSGML v1.0//EN
CALSCALE:GREGORIAN
METHOD:PUBLISH
X-WR-CALNAME:SPRYE
X-ORIGINAL-URL:https://sprye.org
X-WR-CALDESC:Events for SPRYE
REFRESH-INTERVAL;VALUE=DURATION:PT1H
X-Robots-Tag:noindex
X-PUBLISHED-TTL:PT1H
BEGIN:VTIMEZONE
TZID:America/New_York
BEGIN:DAYLIGHT
TZOFFSETFROM:-0500
TZOFFSETTO:-0400
TZNAME:EDT
DTSTART:20210314T070000
END:DAYLIGHT
BEGIN:STANDARD
TZOFFSETFROM:-0400
TZOFFSETTO:-0500
TZNAME:EST
DTSTART:20211107T060000
END:STANDARD
BEGIN:DAYLIGHT
TZOFFSETFROM:-0500
TZOFFSETTO:-0400
TZNAME:EDT
DTSTART:20220313T070000
END:DAYLIGHT
BEGIN:STANDARD
TZOFFSETFROM:-0400
TZOFFSETTO:-0500
TZNAME:EST
DTSTART:20221106T060000
END:STANDARD
BEGIN:DAYLIGHT
TZOFFSETFROM:-0500
TZOFFSETTO:-0400
TZNAME:EDT
DTSTART:20230312T070000
END:DAYLIGHT
BEGIN:STANDARD
TZOFFSETFROM:-0400
TZOFFSETTO:-0500
TZNAME:EST
DTSTART:20231105T060000
END:STANDARD
END:VTIMEZONE
BEGIN:VEVENT
DTSTART;TZID=America/New_York:20220921T150000
DTEND;TZID=America/New_York:20220921T150000
DTSTAMP:20260422T061816
CREATED:20220728T155534Z
LAST-MODIFIED:20220728T170339Z
UID:10000227-1663772400-1663772400@sprye.org
SUMMARY:The Streets of Rye: How They Got Their Names
DESCRIPTION:Local author and historian Paul Hicks will introduce Paul Rheingold who will discuss his book about the interesting names of Rye streets. Reservations are required.
URL:https://sprye.org/event/the-streets-of-rye-how-they-got-their-names/
LOCATION:Wainwright House\, 275 Stuyvesant Street\, Rye\, NY\, 10580
ATTACH;FMTTYPE=image/jpeg:https://sprye.org/wp-content/uploads/2022/07/book2.jpg
END:VEVENT
BEGIN:VEVENT
DTSTART;TZID=America/New_York:20220907T110000
DTEND;TZID=America/New_York:20220907T110000
DTSTAMP:20260422T061816
CREATED:20220728T154632Z
LAST-MODIFIED:20220728T154632Z
UID:10000225-1662548400-1662548400@sprye.org
SUMMARY:When is Your Forever Home No Longer Forever?
DESCRIPTION:Zoom: SPRYE Director Marie Johnson and Liz Rolle\, owner of Senior Concierge Services will discuss the pros and cons of living in your current homeand how to start planning for a transition.
URL:https://sprye.org/event/when-is-your-forever-home-no-longer-forever/
LOCATION:NY
ATTACH;FMTTYPE=image/jpeg:https://sprye.org/wp-content/uploads/2022/07/forever-home.jpg
END:VEVENT
BEGIN:VEVENT
DTSTART;TZID=America/New_York:20220724T170000
DTEND;TZID=America/New_York:20220724T170000
DTSTAMP:20260422T061816
CREATED:20220613T134249Z
LAST-MODIFIED:20220613T134249Z
UID:10000222-1658682000-1658682000@sprye.org
SUMMARY:SPRYE Goes to Untermeyer Gardens Conservancy Preserve
DESCRIPTION:Tom Gold Dance Company. Tickets are $50.
URL:https://sprye.org/event/sprye-goes-to-untermeyer-gardens-conservancy-preserve/
LOCATION:Untermeyer Gardens Conservancy Preserve\, 945 N Broadway\, Yonkers\, NY\, 10701
END:VEVENT
BEGIN:VEVENT
DTSTART;TZID=America/New_York:20220712T193000
DTEND;TZID=America/New_York:20220712T193000
DTSTAMP:20260422T061816
CREATED:20220705T151641Z
LAST-MODIFIED:20220705T151751Z
UID:10000224-1657654200-1657654200@sprye.org
SUMMARY:The Big Band Sounds of The Scott Wenzel Big Band
DESCRIPTION:Join SPRYE on Tuesday\, July 12th and listen to the Big Band sounds of Scott Wenzel’s Big Band at Rye Town Park Tuesday Night Concert Series. This event is FREE and begins at 7:30pm. Blankets\, chairs and snacks are welcome.
URL:https://sprye.org/event/the-big-band-sounds-of-the-scott-wenzel-big-band/
LOCATION:Rye Town Park\, 95 Dearborn Ave\, Rye\, NY\, 10580
ATTACH;FMTTYPE=image/jpeg:https://sprye.org/wp-content/uploads/2022/07/scott-wenzel-22.jpg
END:VEVENT
BEGIN:VEVENT
DTSTART;VALUE=DATE:20220701
DTEND;VALUE=DATE:20220705
DTSTAMP:20260422T061816
CREATED:20220613T134550Z
LAST-MODIFIED:20220613T134550Z
UID:10000223-1656633600-1656979199@sprye.org
SUMMARY:The SPRYE Office Will be Closed July 1-4
DESCRIPTION:The SPRYE Office will be closed to celebrate July 4th. The office will reopen on Tuesday\, July 5th at 9:00 a.m.
URL:https://sprye.org/event/the-sprye-office-will-be-closed-july-1-4/
LOCATION:NY
END:VEVENT
BEGIN:VEVENT
DTSTART;TZID=America/New_York:20220625T101500
DTEND;TZID=America/New_York:20220625T120000
DTSTAMP:20260422T061816
CREATED:20220601T162438Z
LAST-MODIFIED:20220613T135920Z
UID:10000219-1656152100-1656158400@sprye.org
SUMMARY:SPRYE Tour of Kendall Sculpture Gardens at PepsiCo
DESCRIPTION:A 1 1/2 to 2 hour tour for SPRYE members who sign-up as outlined below. See 45 sculpture works by major 20th century artists on PepsiCo’s 152 acre landscaped headquarters site in Purchase NY. It involves extensive slow walking over 2 miles\, with few benches and up to six steps. \nGuide: Our own\, Arthur Stampleman who is a Bruce Museum docent. \nTransportation: No bus will be provided. You must drive yourself or car pool. Directions & map will be provided. \nCost: There is no fee. \nTo sign up: Please send an email or phone Marie with the following information: \n\nYour name\nName of member accompanying you\nAre you driving your car or can you arrange to car pool with another member ?\nDo you need help in car pooling ?\n\nThere is a limit of 15 persons for the tour. If you register when space is available\, your registration will be acknowledged by your receiving an email from Marie and directions for getting to and parking at PepsiCo.
URL:https://sprye.org/event/sprye-tour-of-kendall-sculpture-gardens-at-pepsico/
LOCATION:Donald M Kendall Sculpture Gardens\, 700 Anderson Hill Rd.\, Purchase\, NY\, 10577
ATTACH;FMTTYPE=image/jpeg:https://sprye.org/wp-content/uploads/2022/06/pepsico.jpg
END:VEVENT
BEGIN:VEVENT
DTSTART;TZID=America/New_York:20220623T190000
DTEND;TZID=America/New_York:20220623T190000
DTSTAMP:20260422T061816
CREATED:20220420T022413Z
LAST-MODIFIED:20220615T120007Z
UID:10000217-1656010800-1656010800@sprye.org
SUMMARY:Author Barry Dougherty Shares Stories and Reminiscences About His Career
DESCRIPTION:Barry Dougherty\, author of “How To Do It Standing Up” and “One Hundred Years\, A Million Laughs” shares stories and reminiscences about his career working at the famous NY Friars Club with famous comics. He shares the stage with Peggy Boyce\, producer of Ladies of Laughter as he shares tales of roasts and gags. \nSeating is limited so please RSVP no later than June 10th.
URL:https://sprye.org/event/author-barry-dougherty-shares-stories-and-reminiscences-about-his-career/
LOCATION:Hidden Falls Clubhouse\, 14 Hidden Pond Dr.\, Rye Brook\, NY\, 10573
ATTACH;FMTTYPE=image/jpeg:https://sprye.org/wp-content/uploads/2022/04/events-doherty.jpg
END:VEVENT
BEGIN:VEVENT
DTSTART;TZID=America/New_York:20220617T110000
DTEND;TZID=America/New_York:20220617T110000
DTSTAMP:20260422T061816
CREATED:20220613T133455Z
LAST-MODIFIED:20220613T133625Z
UID:10000220-1655463600-1655463600@sprye.org
SUMMARY:SPRYE's New Walking Club
DESCRIPTION:SPRYE’s new walking club will meet at the Osborn on Friday\, June 17th at 11:00 a.m. Please meet at the flagpole. SPRYE members are welcome to join
URL:https://sprye.org/event/spryes-new-walking-club/
LOCATION:The Osborn\, 101 Theall Rd\, Rye\, NY\, 10580
END:VEVENT
BEGIN:VEVENT
DTSTART;TZID=America/New_York:20220515T150000
DTEND;TZID=America/New_York:20220515T150000
DTSTAMP:20260422T061816
CREATED:20220407T023605Z
LAST-MODIFIED:20220425T193343Z
UID:10000130-1652626800-1652626800@sprye.org
SUMMARY:"Aging and its Challenges" Finding Purpose\, Fighting Ageism and Other Issues Confronting Older Adults
DESCRIPTION:Paula Span\, author and New York Times Old Age columnist will address this topic and its subtle influences on society. Ms. Span has been writing about aging and caregiving for The New York Times since 2007. She joined Columbia University Graduate School of Journalism in 1999 where she is an adjunct professor. \nRSVP is required as space is limited. RSVP by May 9th to director@sprye.org or call 914-481-5706. \nThis is a free program offered to the rye brook community through the generosity of The Svante and Fanny Knistrom Foundation 
URL:https://sprye.org/event/aging-and-its-challenges/
LOCATION:Hidden Falls Clubhouse\, 14 Hidden Pond Dr.\, Rye Brook\, NY\, 10573
ATTACH;FMTTYPE=image/jpeg:https://sprye.org/wp-content/uploads/2022/04/agism.jpg
END:VEVENT
BEGIN:VEVENT
DTSTART;TZID=America/New_York:20220503T230000
DTEND;TZID=America/New_York:20220503T230000
DTSTAMP:20260422T061816
CREATED:20220407T023821Z
LAST-MODIFIED:20220425T193426Z
UID:10000142-1651618800-1651618800@sprye.org
SUMMARY:Estate Planning and More
DESCRIPTION:Lamson and Cutner\, P.C. – Estate Planning and More\nOnline program. Please call the office for the link.
URL:https://sprye.org/event/estate-planning-and-more/
LOCATION:NY
ATTACH;FMTTYPE=image/jpeg:https://sprye.org/wp-content/uploads/2022/04/estate.jpg
END:VEVENT
BEGIN:VEVENT
DTSTART;TZID=America/New_York:20220420T110000
DTEND;TZID=America/New_York:20220420T110000
DTSTAMP:20260422T061816
CREATED:20220407T023504Z
LAST-MODIFIED:20220425T193450Z
UID:10000128-1650452400-1650452400@sprye.org
SUMMARY:"Films of Alfred Hitchcock"
DESCRIPTION:Brian Rose presents his final program and will delight the audience sharing inside stories on Hitchcock and the films he made. \nPlease call the office for the link.
URL:https://sprye.org/event/films-of-alfred-hitchcock/
LOCATION:NY
ATTACH;FMTTYPE=image/jpeg:https://sprye.org/wp-content/uploads/2022/04/alfred.jpg
END:VEVENT
BEGIN:VEVENT
DTSTART;TZID=America/New_York:20220414T120000
DTEND;TZID=America/New_York:20220414T120000
DTSTAMP:20260422T061816
CREATED:20220407T023603Z
LAST-MODIFIED:20220425T193603Z
UID:10000129-1649937600-1649937600@sprye.org
SUMMARY:JIB Productions Presents "Play With Your Food"
DESCRIPTION:Hilarious\, provocative\, and heartwarming short plays read by professional actors and followed by a talkback with the cast and director. Plus-a delicious boxed lunch to stay or go. \nA limited amount of tickets are available. Please call the office for more information (914) 481-5706. Transportation will be provided if needed
URL:https://sprye.org/event/jib-productions-presents-play-with-your-food/
LOCATION:Greenwich Arts Council\, 299 Greenwich Avenue\, Greenwich\, Connecticut\, 06830
ATTACH;FMTTYPE=image/jpeg:https://sprye.org/wp-content/uploads/2022/04/play-with-your-food.jpg
END:VEVENT
END:VCALENDAR