BEGIN:VCALENDAR
VERSION:2.0
PRODID:-//SPRYE - ECPv6.15.20//NONSGML v1.0//EN
CALSCALE:GREGORIAN
METHOD:PUBLISH
X-WR-CALNAME:SPRYE
X-ORIGINAL-URL:https://sprye.org
X-WR-CALDESC:Events for SPRYE
REFRESH-INTERVAL;VALUE=DURATION:PT1H
X-Robots-Tag:noindex
X-PUBLISHED-TTL:PT1H
BEGIN:VTIMEZONE
TZID:America/New_York
BEGIN:DAYLIGHT
TZOFFSETFROM:-0500
TZOFFSETTO:-0400
TZNAME:EDT
DTSTART:20230312T070000
END:DAYLIGHT
BEGIN:STANDARD
TZOFFSETFROM:-0400
TZOFFSETTO:-0500
TZNAME:EST
DTSTART:20231105T060000
END:STANDARD
BEGIN:DAYLIGHT
TZOFFSETFROM:-0500
TZOFFSETTO:-0400
TZNAME:EDT
DTSTART:20240310T070000
END:DAYLIGHT
BEGIN:STANDARD
TZOFFSETFROM:-0400
TZOFFSETTO:-0500
TZNAME:EST
DTSTART:20241103T060000
END:STANDARD
BEGIN:DAYLIGHT
TZOFFSETFROM:-0500
TZOFFSETTO:-0400
TZNAME:EDT
DTSTART:20250309T070000
END:DAYLIGHT
BEGIN:STANDARD
TZOFFSETFROM:-0400
TZOFFSETTO:-0500
TZNAME:EST
DTSTART:20251102T060000
END:STANDARD
END:VTIMEZONE
BEGIN:VEVENT
DTSTART;TZID=America/New_York:20240915T170000
DTEND;TZID=America/New_York:20240915T170000
DTSTAMP:20260421T100324
CREATED:20240731T182709Z
LAST-MODIFIED:20240731T183021Z
UID:10000602-1726419600-1726419600@sprye.org
SUMMARY:An Afternoon with Richard Rodgers
DESCRIPTION:SPRYE members $20.00 (Box office $32.50) \nMarc Molomot\, tenor\, Robert Osborne\, bass\, Amy Justman\, soprano and accompanist Alex Ruvinstein will reach into the Great American Songbook for this performance of songs written by Richard Rodgers.
URL:https://sprye.org/event/an-afternoon-with-richard-rodgers/
ATTACH;FMTTYPE=image/jpeg:https://sprye.org/wp-content/uploads/2024/07/rodgers.jpg
END:VEVENT
END:VCALENDAR